BEGIN:VCALENDAR
VERSION:2.0
PRODID:-//ExhibitionMatches.com//NONSGML v1.0//EN
BEGIN:VEVENT
UID=523727A1-A22E-C4EC-6076E3199A042A72
DTSTAMP=20260423T123824Z
DTSTART;VALUE=DATE:20261212
DTEND;VALUE=DATE:20261214
SUMMARY:2026 National Duals Invitational
LOCATION:BOK Center, 200 South Denver Avenue, Tulsa, OK, 74103
DESCRIPTION:View full event details: https://wrestlingtournaments.org/view.cfm?ID=107122

URL;VALUE=URI:https://wrestlingtournaments.org/view.cfm?ID=107122
END:VEVENT
END:VCALENDAR