BEGIN:VCALENDAR
VERSION:2.0
PRODID:-//ExhibitionMatches.com//NONSGML v1.0//EN
BEGIN:VEVENT
UID=522DD501-0C80-5A02-26F3A897EFBDA2B1
DTSTAMP=20260423T123723Z
DTSTART;VALUE=DATE:20260802
DTEND;VALUE=DATE:20260804
SUMMARY:2026 Firebird Inferno Duals (Registration Only)
LOCATION:FireLake Arena, 18145 Old Rangeline Road, Shawnee, OK, 74801
DESCRIPTION:View full event details: https://wrestlingtournaments.org/view.cfm?ID=107111
Contact: Jeremy Rooks 316-708-6611 info@ewpok.com
URL;VALUE=URI:https://wrestlingtournaments.org/view.cfm?ID=107111
END:VEVENT
END:VCALENDAR