BEGIN:VCALENDAR
VERSION:2.0
PRODID:-//ExhibitionMatches.com//NONSGML v1.0//EN
BEGIN:VEVENT
UID=52509FC5-B09F-F49D-9EAB8B09B2E6DEF9
DTSTAMP=20260423T124111Z
DTSTART;VALUE=DATE:20260530
DTEND;VALUE=DATE:20260601
SUMMARY:OWRTC DUALS
LOCATION:Henry J. Freede Wellness Center, 1716 NW 27th Street, Oklahoma City, OK, 73106
DESCRIPTION:View full event details: https://wrestlingtournaments.org/view.cfm?ID=107031
Contact: R. William McKinney owrtcenter@gmail.com
URL;VALUE=URI:https://wrestlingtournaments.org/view.cfm?ID=107031
END:VEVENT
END:VCALENDAR