BEGIN:VCALENDAR
VERSION:2.0
PRODID:-//ExhibitionMatches.com//NONSGML v1.0//EN
BEGIN:VEVENT
UID=52637E0A-E66D-39D6-7008B7B11F0CBB73
DTSTAMP=20260423T124315Z
DTSTART;VALUE=DATE:20260530
DTEND;VALUE=DATE:20260601
SUMMARY:2025 Beat Drop Throwdown - RESCHEDULED to 5/30
LOCATION:Brooks Walton Activity Center, w, 1000 West 4th Street, Skiatook, OK, 74070
DESCRIPTION:View full event details: https://wrestlingtournaments.org/view.cfm?ID=107028
Contact: Jeremy Rooks 316-708-6611
URL;VALUE=URI:https://wrestlingtournaments.org/view.cfm?ID=107028
END:VEVENT
END:VCALENDAR